BEGIN:VCALENDAR
VERSION:2.0
PRODID:-//Rosetown Ramblers - ECPv6.15.16//NONSGML v1.0//EN
CALSCALE:GREGORIAN
METHOD:PUBLISH
X-ORIGINAL-URL:https://www.rosetownramblers.com
X-WR-CALDESC:Events for Rosetown Ramblers
REFRESH-INTERVAL;VALUE=DURATION:PT1H
X-Robots-Tag:noindex
X-PUBLISHED-TTL:PT1H
BEGIN:VTIMEZONE
TZID:America/Los_Angeles
BEGIN:DAYLIGHT
TZOFFSETFROM:-0800
TZOFFSETTO:-0700
TZNAME:PDT
DTSTART:20230312T100000
END:DAYLIGHT
BEGIN:STANDARD
TZOFFSETFROM:-0700
TZOFFSETTO:-0800
TZNAME:PST
DTSTART:20231105T090000
END:STANDARD
BEGIN:DAYLIGHT
TZOFFSETFROM:-0800
TZOFFSETTO:-0700
TZNAME:PDT
DTSTART:20240310T100000
END:DAYLIGHT
BEGIN:STANDARD
TZOFFSETFROM:-0700
TZOFFSETTO:-0800
TZNAME:PST
DTSTART:20241103T090000
END:STANDARD
BEGIN:DAYLIGHT
TZOFFSETFROM:-0800
TZOFFSETTO:-0700
TZNAME:PDT
DTSTART:20250309T100000
END:DAYLIGHT
BEGIN:STANDARD
TZOFFSETFROM:-0700
TZOFFSETTO:-0800
TZNAME:PST
DTSTART:20251102T090000
END:STANDARD
END:VTIMEZONE
BEGIN:VEVENT
DTSTART;TZID=America/Los_Angeles:20241106T190000
DTEND;TZID=America/Los_Angeles:20241106T203000
DTSTAMP:20260425T173609
CREATED:20240729T215850Z
LAST-MODIFIED:20240729T215850Z
UID:4857-1730919600-1730925000@www.rosetownramblers.com
SUMMARY:Social Square Dance Lessons--Week 7
DESCRIPTION:Our lesson series started on Wednesday\, September 11\, 2024. This lesson series is now closed to new dancers. However\, angels are welcome to join us. \nOur weekly lessons continue every Wednesday through approximately December 18\, 2024. \nThe lessons take place at the Bridgeport United Church of Christ\, 621 NE 76th Ave.\, Portland 97213. Lessons start promptly at 7 pm and continue until 8:30 pm. If you are curious\, you are welcome to drop in to observe a lesson. \nPlease note: \nDress comfortably and come ready to dance. You don’t need any special shoes or clothes to dance.\nNo partner necessary. We will make sure you have someone to dance with.
URL:https://www.rosetownramblers.com/calendar/social-square-dance-lessons-week-7/
LOCATION:Bridgeport United Church of Christ\, 621 NE 76th Ave.\, Portland\, OR\, 97213\, US
END:VEVENT
BEGIN:VEVENT
DTSTART;TZID=America/Los_Angeles:20241109T190000
DTEND;TZID=America/Los_Angeles:20241109T213000
DTSTAMP:20260425T173609
CREATED:20240728T190638Z
LAST-MODIFIED:20240728T190638Z
UID:4836-1731178800-1731187800@www.rosetownramblers.com
SUMMARY:Social Square Dance: Pass the Pumpkin!
DESCRIPTION:Join the Rosetown Ramblers LGBTQIA Square Dance Club for our monthly social square dance. Our monthly social dances are intended for experienced dancers. We alternate Social Square Dance (Mainstream) and Plus tips. Our November caller will be Chuck Simpkins from Grants Pass. \nIf you are interested in learning to dance\, check out our lessons. \nCome join us for a lively evening of LGBTQ-friendly square dancing in a welcoming and supportive environment!
URL:https://www.rosetownramblers.com/calendar/social-square-dance-pass-the-pumpkin/
LOCATION:Oak Grove Community Club\, 14496 Southeast Cedar Avenue\, Portland\, OR\, 97267\, US
END:VEVENT
BEGIN:VEVENT
DTSTART;TZID=America/Los_Angeles:20241113T190000
DTEND;TZID=America/Los_Angeles:20241113T203000
DTSTAMP:20260425T173609
CREATED:20240729T215955Z
LAST-MODIFIED:20240729T215955Z
UID:4859-1731524400-1731529800@www.rosetownramblers.com
SUMMARY:Social Square Dance Lessons--Week 8
DESCRIPTION:Our lesson series started on Wednesday\, September 11\, 2024. This lesson series is now closed to new dancers. However\, angels are welcome to join us. \nOur weekly lessons continue every Wednesday through approximately December 18\, 2024. \nThe lessons take place at the Bridgeport United Church of Christ\, 621 NE 76th Ave.\, Portland 97213. Lessons start promptly at 7 pm and continue until 8:30 pm. If you are curious\, you are welcome to drop in to observe a lesson. \nPlease note: \nDress comfortably and come ready to dance. You don’t need any special shoes or clothes to dance.\nNo partner necessary. We will make sure you have someone to dance with.
URL:https://www.rosetownramblers.com/calendar/social-square-dance-lessons-week-8/
LOCATION:Bridgeport United Church of Christ\, 621 NE 76th Ave.\, Portland\, OR\, 97213\, US
END:VEVENT
BEGIN:VEVENT
DTSTART;TZID=America/Los_Angeles:20241120T190000
DTEND;TZID=America/Los_Angeles:20241120T193000
DTSTAMP:20260425T173609
CREATED:20240729T220109Z
LAST-MODIFIED:20240729T220109Z
UID:4861-1732129200-1732131000@www.rosetownramblers.com
SUMMARY:Social Square Dance Lessons--Week 9
DESCRIPTION:Our lesson series started on Wednesday\, September 11\, 2024. This lesson series is now closed to new dancers. However\, angels are welcome to join us. \nOur weekly lessons continue every Wednesday through approximately December 18\, 2024. \nThe lessons take place at the Bridgeport United Church of Christ\, 621 NE 76th Ave.\, Portland 97213. Lessons start promptly at 7 pm and continue until 8:30 pm. If you are curious\, you are welcome to drop in to observe a lesson. \nPlease note: \nDress comfortably and come ready to dance. You don’t need any special shoes or clothes to dance.\nNo partner necessary. We will make sure you have someone to dance with.
URL:https://www.rosetownramblers.com/calendar/social-square-dance-lessons-week-9/
LOCATION:Bridgeport United Church of Christ\, 621 NE 76th Ave.\, Portland\, OR\, 97213\, US
END:VEVENT
BEGIN:VEVENT
DTSTART;TZID=America/Los_Angeles:20241127T190000
DTEND;TZID=America/Los_Angeles:20241127T203000
DTSTAMP:20260425T173609
CREATED:20240729T220251Z
LAST-MODIFIED:20240729T220251Z
UID:4863-1732734000-1732739400@www.rosetownramblers.com
SUMMARY:Social Square Dance Lessons--No class tonight (Thanksgiving Break)
DESCRIPTION:We will not be meeting tonight. Happy Thanksgiving!
URL:https://www.rosetownramblers.com/calendar/social-square-dance-lessons-no-class-tonight-thanksgiving-break/
END:VEVENT
END:VCALENDAR