BEGIN:VCALENDAR
VERSION:2.0
PRODID:-//Rosetown Ramblers - ECPv6.15.16//NONSGML v1.0//EN
CALSCALE:GREGORIAN
METHOD:PUBLISH
X-ORIGINAL-URL:https://www.rosetownramblers.com
X-WR-CALDESC:Events for Rosetown Ramblers
REFRESH-INTERVAL;VALUE=DURATION:PT1H
X-Robots-Tag:noindex
X-PUBLISHED-TTL:PT1H
BEGIN:VTIMEZONE
TZID:America/Los_Angeles
BEGIN:DAYLIGHT
TZOFFSETFROM:-0800
TZOFFSETTO:-0700
TZNAME:PDT
DTSTART:20220313T100000
END:DAYLIGHT
BEGIN:STANDARD
TZOFFSETFROM:-0700
TZOFFSETTO:-0800
TZNAME:PST
DTSTART:20221106T090000
END:STANDARD
BEGIN:DAYLIGHT
TZOFFSETFROM:-0800
TZOFFSETTO:-0700
TZNAME:PDT
DTSTART:20230312T100000
END:DAYLIGHT
BEGIN:STANDARD
TZOFFSETFROM:-0700
TZOFFSETTO:-0800
TZNAME:PST
DTSTART:20231105T090000
END:STANDARD
BEGIN:DAYLIGHT
TZOFFSETFROM:-0800
TZOFFSETTO:-0700
TZNAME:PDT
DTSTART:20240310T100000
END:DAYLIGHT
BEGIN:STANDARD
TZOFFSETFROM:-0700
TZOFFSETTO:-0800
TZNAME:PST
DTSTART:20241103T090000
END:STANDARD
END:VTIMEZONE
BEGIN:VEVENT
DTSTART;TZID=America/Los_Angeles:20230114T190000
DTEND;TZID=America/Los_Angeles:20230114T213000
DTSTAMP:20260422T035444
CREATED:20221229T014929Z
LAST-MODIFIED:20221229T014929Z
UID:4681-1673722800-1673731800@www.rosetownramblers.com
SUMMARY:Monthly Social Dance: Black and White Ball
DESCRIPTION:Our annual Black and White Ball will take place on January 14\, 2023. You are encouraged to wear any combination of black and white–as formal or as casual as you wish! \nOur caller will be the stupendous Stephen Cole from Seattle. \nWe alternate Social Square Dance (Mainstream) and Plus tips from 7 to 9:30 pm. We dance at the Oak Grove Community Club\, 14496 SE Cedar Ave.\, Portland.
URL:https://www.rosetownramblers.com/calendar/monthly-social-dance-black-and-white-ball/
LOCATION:Oak Grove Community Club\, 14496 Southeast Cedar Avenue\, Portland\, OR\, 97267\, US
END:VEVENT
END:VCALENDAR