BEGIN:VCALENDAR
VERSION:2.0
PRODID:-//Rosetown Ramblers - ECPv6.15.16//NONSGML v1.0//EN
CALSCALE:GREGORIAN
METHOD:PUBLISH
X-ORIGINAL-URL:https://www.rosetownramblers.com
X-WR-CALDESC:Events for Rosetown Ramblers
REFRESH-INTERVAL;VALUE=DURATION:PT1H
X-Robots-Tag:noindex
X-PUBLISHED-TTL:PT1H
BEGIN:VTIMEZONE
TZID:America/Los_Angeles
BEGIN:DAYLIGHT
TZOFFSETFROM:-0800
TZOFFSETTO:-0700
TZNAME:PDT
DTSTART:20240310T100000
END:DAYLIGHT
BEGIN:STANDARD
TZOFFSETFROM:-0700
TZOFFSETTO:-0800
TZNAME:PST
DTSTART:20241103T090000
END:STANDARD
BEGIN:DAYLIGHT
TZOFFSETFROM:-0800
TZOFFSETTO:-0700
TZNAME:PDT
DTSTART:20250309T100000
END:DAYLIGHT
BEGIN:STANDARD
TZOFFSETFROM:-0700
TZOFFSETTO:-0800
TZNAME:PST
DTSTART:20251102T090000
END:STANDARD
BEGIN:DAYLIGHT
TZOFFSETFROM:-0800
TZOFFSETTO:-0700
TZNAME:PDT
DTSTART:20260308T100000
END:DAYLIGHT
BEGIN:STANDARD
TZOFFSETFROM:-0700
TZOFFSETTO:-0800
TZNAME:PST
DTSTART:20261101T090000
END:STANDARD
BEGIN:DAYLIGHT
TZOFFSETFROM:-0800
TZOFFSETTO:-0700
TZNAME:PDT
DTSTART:20270314T100000
END:DAYLIGHT
BEGIN:STANDARD
TZOFFSETFROM:-0700
TZOFFSETTO:-0800
TZNAME:PST
DTSTART:20271107T090000
END:STANDARD
END:VTIMEZONE
BEGIN:VTIMEZONE
TZID:America/Los_Angeles
BEGIN:DAYLIGHT
TZOFFSETFROM:-0800
TZOFFSETTO:-0700
TZNAME:PDT
DTSTART:20250309T100000
END:DAYLIGHT
BEGIN:STANDARD
TZOFFSETFROM:-0700
TZOFFSETTO:-0800
TZNAME:PST
DTSTART:20251102T090000
END:STANDARD
BEGIN:DAYLIGHT
TZOFFSETFROM:-0800
TZOFFSETTO:-0700
TZNAME:PDT
DTSTART:20260308T100000
END:DAYLIGHT
BEGIN:STANDARD
TZOFFSETFROM:-0700
TZOFFSETTO:-0800
TZNAME:PST
DTSTART:20261101T090000
END:STANDARD
BEGIN:DAYLIGHT
TZOFFSETFROM:-0800
TZOFFSETTO:-0700
TZNAME:PDT
DTSTART:20270314T100000
END:DAYLIGHT
BEGIN:STANDARD
TZOFFSETFROM:-0700
TZOFFSETTO:-0800
TZNAME:PST
DTSTART:20271107T090000
END:STANDARD
END:VTIMEZONE
BEGIN:VEVENT
DTSTART;TZID=America/Los_Angeles:20250412T160000
DTEND;TZID=America/Los_Angeles:20250412T180000
DTSTAMP:20260422T144636
CREATED:20250115T235948Z
LAST-MODIFIED:20250115T235948Z
UID:4919-1744473600-1744480800@www.rosetownramblers.com
SUMMARY:Advanced Dance
DESCRIPTION:Terri Sherrer calls for Heads to the Center
URL:https://www.rosetownramblers.com/calendar/advanced-dance-2/
LOCATION:Oak Grove Community Club\, 14496 Southeast Cedar Avenue\, Portland\, OR\, 97267\, US
END:VEVENT
BEGIN:VEVENT
DTSTART;TZID=America/Los_Angeles:20250412T190000
DTEND;TZID=America/Los_Angeles:20250412T213000
DTSTAMP:20260422T144636
CREATED:20240730T014351Z
LAST-MODIFIED:20240730T014351Z
UID:4879-1744484400-1744493400@www.rosetownramblers.com
SUMMARY:Social Square Dance: April Showers
DESCRIPTION:Oregon’s weather may be unpredictable\, but you can be pretty sure that April will bring its fair share of showers. Direct your feet to the sunny side of the street and dance to the fun and energetic calling of Terri Sherrer\, all the way from Palm Springs\, CA. \nWe alternate Social Square Dance/Mainstream and Plus tips. \nSquare dance attire is never required at Ramblers events–dress however you feel comfortable.
URL:https://www.rosetownramblers.com/calendar/social-square-dance-april-showers/
LOCATION:Oak Grove Community Club\, 14496 Southeast Cedar Avenue\, Portland\, OR\, 97267\, US
END:VEVENT
BEGIN:VEVENT
DTSTART;TZID=America/Los_Angeles:20250422T190000
DTEND;TZID=America/Los_Angeles:20250422T203000
DTSTAMP:20260422T144636
CREATED:20250224T051438Z
LAST-MODIFIED:20250224T051438Z
UID:4936-1745348400-1745353800@www.rosetownramblers.com
SUMMARY:Ramblers Board meeting
DESCRIPTION:
URL:https://www.rosetownramblers.com/calendar/ramblers-board-meeting-3/
END:VEVENT
BEGIN:VEVENT
DTSTART;TZID=America/Los_Angeles:20250510T190000
DTEND;TZID=America/Los_Angeles:20250510T213000
DTSTAMP:20260422T144636
CREATED:20240730T014632Z
LAST-MODIFIED:20240730T014632Z
UID:4881-1746903600-1746912600@www.rosetownramblers.com
SUMMARY:Social Square Dance: Mad Plaid Grad Dance
DESCRIPTION:Help our students graduate in style at our annual graduation dance. This dance is FREE for all dancers. \nWear your craziest combinations of plaids! \nWe will emphasize Social Square Dance tips at this dance in honor of our students\, but we will also throw in some Mainstream and Plus tips\, too. \nSquare dance attire is never required at Ramblers events–dress however you feel comfortable.
URL:https://www.rosetownramblers.com/calendar/social-square-dance-mad-plaid-grad-dance/
LOCATION:Oak Grove Community Club\, 14496 Southeast Cedar Avenue\, Portland\, OR\, 97267\, US
END:VEVENT
BEGIN:VEVENT
DTSTART;TZID=America/Los_Angeles:20250527T190000
DTEND;TZID=America/Los_Angeles:20250527T203000
DTSTAMP:20260422T144636
CREATED:20250224T051513Z
LAST-MODIFIED:20250224T051513Z
UID:4938-1748372400-1748377800@www.rosetownramblers.com
SUMMARY:Ramblers Board meeting
DESCRIPTION:
URL:https://www.rosetownramblers.com/calendar/ramblers-board-meeting-4/
END:VEVENT
BEGIN:VEVENT
DTSTART;TZID=America/Los_Angeles:20250614T160000
DTEND;TZID=America/Los_Angeles:20250614T180000
DTSTAMP:20260422T144636
CREATED:20250116T000048Z
LAST-MODIFIED:20250116T000048Z
UID:4921-1749916800-1749924000@www.rosetownramblers.com
SUMMARY:Advanced Dance
DESCRIPTION:Michael Kellogg calls for Heads to the Center
URL:https://www.rosetownramblers.com/calendar/advanced-dance-3/
LOCATION:Oak Grove Community Club\, 14496 Southeast Cedar Avenue\, Portland\, OR\, 97267\, US
END:VEVENT
BEGIN:VEVENT
DTSTART;TZID=America/Los_Angeles:20250614T190000
DTEND;TZID=America/Los_Angeles:20250614T213000
DTSTAMP:20260422T144636
CREATED:20240730T014858Z
LAST-MODIFIED:20240730T014858Z
UID:4883-1749927600-1749936600@www.rosetownramblers.com
SUMMARY:Social Square Dance: Pride!
DESCRIPTION:Break out the rainbows and help the Ramblers celebrate Pride with international calling sensation Michael Kellogg. You simply can’t have more fun in a vertical position. \nWe alternate Social Square Dance/Mainstream and Plus tips. \nSquare dance attire is never required at Ramblers events–dress however you feel comfortable.
URL:https://www.rosetownramblers.com/calendar/social-square-dance-pride/
LOCATION:Oak Grove Community Club\, 14496 Southeast Cedar Avenue\, Portland\, OR\, 97267\, US
END:VEVENT
BEGIN:VEVENT
DTSTART;TZID=America/Los_Angeles:20250624T190000
DTEND;TZID=America/Los_Angeles:20250624T203000
DTSTAMP:20260422T144636
CREATED:20250224T051541Z
LAST-MODIFIED:20260224T063257Z
UID:4940-1750791600-1750797000@www.rosetownramblers.com
SUMMARY:Ramblers Board meeting
DESCRIPTION:
URL:https://www.rosetownramblers.com/calendar/ramblers-board-meeting-5/
CATEGORIES:Rosetown Ramblers Board
END:VEVENT
BEGIN:VEVENT
DTSTART;TZID=America/Los_Angeles:20250629T110000
DTEND;TZID=America/Los_Angeles:20250629T130000
DTSTAMP:20260422T144636
CREATED:20250522T162641Z
LAST-MODIFIED:20250522T162641Z
UID:4999-1751194800-1751202000@www.rosetownramblers.com
SUMMARY:Pride Beaverton
DESCRIPTION:The Ramblers will be marching in the Beaverton Pride Parade and then doing a short performance around noon in front of the Beaverton Central Library. Come check us out!
URL:https://www.rosetownramblers.com/calendar/pride-beaverton/
LOCATION:Beaverton Library\, 12375 SW 5th St\, Beaverton\, OR\, 97005\, United States
END:VEVENT
BEGIN:VEVENT
DTSTART;TZID=America/Los_Angeles:20250722T190000
DTEND;TZID=America/Los_Angeles:20250722T203000
DTSTAMP:20260422T144636
CREATED:20250224T051619Z
LAST-MODIFIED:20260224T063257Z
UID:4942-1753210800-1753216200@www.rosetownramblers.com
SUMMARY:Ramblers Board meeting
DESCRIPTION:
URL:https://www.rosetownramblers.com/calendar/ramblers-board-meeting-6/
CATEGORIES:Rosetown Ramblers Board
END:VEVENT
BEGIN:VEVENT
DTSTART;TZID=America/Los_Angeles:20250826T190000
DTEND;TZID=America/Los_Angeles:20250826T203000
DTSTAMP:20260422T144636
CREATED:20250224T051649Z
LAST-MODIFIED:20260224T063257Z
UID:4944-1756234800-1756240200@www.rosetownramblers.com
SUMMARY:Ramblers Board meeting
DESCRIPTION:
URL:https://www.rosetownramblers.com/calendar/ramblers-board-meeting-7/
CATEGORIES:Rosetown Ramblers Board
END:VEVENT
BEGIN:VEVENT
DTSTART;TZID=America/Los_Angeles:20250826T190000
DTEND;TZID=America/Los_Angeles:20250826T203000
DTSTAMP:20260422T144636
CREATED:20250224T051716Z
LAST-MODIFIED:20260224T063257Z
UID:4946-1756234800-1756240200@www.rosetownramblers.com
SUMMARY:Ramblers Board meeting
DESCRIPTION:
URL:https://www.rosetownramblers.com/calendar/ramblers-board-meeting-8/
CATEGORIES:Rosetown Ramblers Board
END:VEVENT
BEGIN:VEVENT
DTSTART;TZID=America/Los_Angeles:20250906T120000
DTEND;TZID=America/Los_Angeles:20250906T170000
DTSTAMP:20260422T144636
CREATED:20250522T163046Z
LAST-MODIFIED:20260224T063148Z
UID:5002-1757160000-1757178000@www.rosetownramblers.com
SUMMARY:Oregon City Pride
DESCRIPTION:Check out the Ramblers at Oregon City Pride. We’ll be doing a dance demo in the afternoon–then you can try out dancing for yourself tonight at Oak Grove Community Center\, 14496 SE Cedar Ave.\, Oak Grove.
URL:https://www.rosetownramblers.com/calendar/oregon-city-pride/
LOCATION:Clackamas Community College\, 19600 Molalla Ave.\, Oregon City\, OR\, 97045
CATEGORIES:Dancing with the Ramblers
END:VEVENT
BEGIN:VEVENT
DTSTART;TZID=America/Los_Angeles:20250906T190000
DTEND;TZID=America/Los_Angeles:20250906T203000
DTSTAMP:20260422T144636
CREATED:20250522T163453Z
LAST-MODIFIED:20260224T063346Z
UID:5005-1757185200-1757190600@www.rosetownramblers.com
SUMMARY:Free Community Dance and Introduction to Square Dancing
DESCRIPTION:Here’s your chance to try out square dancing with a fun\, supportive LGBTQ and allies community. Whether you have a little bit of experience from grade school or no prior experience at all\, come join the fun. The Ramblers bust all the old stereotypes about square dancing: \n\nNo dress code–just come as you are in comfortable clothes.\nNo dance partner required–we’ll make sure you get into a square.\nNo fixed gender roles–dance the position where you feel comfortable.\nNo hokey music–well\, maybe a little\, but we also use lots of contemporary music\, too!
URL:https://www.rosetownramblers.com/calendar/free-community-dance-and-introduction-to-square-dancing/
LOCATION:Oak Grove Community Club\, 14496 Southeast Cedar Avenue\, Portland\, OR\, 97267\, US
CATEGORIES:Learn to Square Dance,SSD/Mainstream Lessons
END:VEVENT
BEGIN:VEVENT
DTSTART;TZID=America/Los_Angeles:20250913T190000
DTEND;TZID=America/Los_Angeles:20250913T213000
DTSTAMP:20260422T144636
CREATED:20250523T004628Z
LAST-MODIFIED:20260224T063148Z
UID:5010-1757790000-1757799000@www.rosetownramblers.com
SUMMARY:September Social Dance with Roger Putzler
DESCRIPTION:Let’s kick off Fall with a bang as we return from our summer hiatus with a September social dance. Roger Putzler will be calling SSD and Plus tips for us\, from 7-9:30 pm at Oak Grove.
URL:https://www.rosetownramblers.com/calendar/september-social-dance-with-roger-putzler/
LOCATION:Oak Grove Community Club\, 14496 Southeast Cedar Avenue\, Portland\, OR\, 97267\, US
CATEGORIES:Dancing with the Ramblers
END:VEVENT
BEGIN:VEVENT
DTSTART;TZID=America/Los_Angeles:20251010T190000
DTEND;TZID=America/Los_Angeles:20251012T140000
DTSTAMP:20260422T144636
CREATED:20250523T005400Z
LAST-MODIFIED:20260224T063148Z
UID:5012-1760122800-1760277600@www.rosetownramblers.com
SUMMARY:Scares and Squares 2025
DESCRIPTION:Join us for our three-day dance extravaganza with three phenomenal callers: Vic Ceder\, Darren Gallina\, and Stephen Cole. We’ll dance all programs from SSD through C-4. We’ll dance simultaneously in two separate rooms during the day on Saturday\, so everyone gets a chance to dance. We’ll also have an hour for line dancing and plenty of time for socializing. Registration is $75 before July 6; $90 from July 7 through September 15; $100 after September 15. \nLodging is available at Best Western Beaverton/West Portland\, with a special rate of $118 plus tax for Scares and Squares: https://www.bestwestern.com/en_US/book/hotel-rooms.38182.html?groupId=6H9EN5U7.
URL:https://www.rosetownramblers.com/calendar/scares-and-squares-2025/
LOCATION:Beaverton Elks Lodge\, 3464 SW 106th Ave.\, Beaverton\, OR\, 97005
CATEGORIES:Dancing with the Ramblers
END:VEVENT
BEGIN:VEVENT
DTSTART;TZID=America/Los_Angeles:20251108T190000
DTEND;TZID=America/Los_Angeles:20251108T213000
DTSTAMP:20260422T144636
CREATED:20250523T005700Z
LAST-MODIFIED:20260224T063148Z
UID:5014-1762628400-1762637400@www.rosetownramblers.com
SUMMARY:November Social Dance with Dan Preedy
DESCRIPTION:Join the Ramblers and national caller Dan Preedy for a high-energy social dance. Dan’s returning to call for the Ramblers for the first time since 2020\, so this is a rare treat for dancers who enjoy rousing singing calls and a guaranteed great time!
URL:https://www.rosetownramblers.com/calendar/november-social-dance-with-dan-preedy/
LOCATION:Oak Grove Community Club\, 14496 Southeast Cedar Avenue\, Portland\, OR\, 97267\, US
CATEGORIES:Dancing with the Ramblers
END:VEVENT
BEGIN:VEVENT
DTSTART;TZID=America/Los_Angeles:20251213T190000
DTEND;TZID=America/Los_Angeles:20251213T213000
DTSTAMP:20260422T144636
CREATED:20250523T005924Z
LAST-MODIFIED:20260224T063026Z
UID:5016-1765652400-1765661400@www.rosetownramblers.com
SUMMARY:December Social Dance with Janienne Kellogg
DESCRIPTION:We are thrilled to welcome Janienne Kellogg back to call the Ramblers December social dance. Janienne has been a huge supporter of our club\, including calling for us in the Portland Pride Parade. She’ll be alternating Social Square Dance and Plus tips from 7-9:30 pm at Oak Grove. Don’t miss this welcome home party!
URL:https://www.rosetownramblers.com/calendar/december-social-dance-with-janienne-kellogg/
LOCATION:Oak Grove Community Club\, 14496 Southeast Cedar Avenue\, Portland\, OR\, 97267\, US
CATEGORIES:Dancing with the Ramblers
END:VEVENT
BEGIN:VEVENT
DTSTART;TZID=America/Los_Angeles:20260110T190000
DTEND;TZID=America/Los_Angeles:20260110T213000
DTSTAMP:20260422T144636
CREATED:20251024T224643Z
LAST-MODIFIED:20260224T063004Z
UID:5049-1768071600-1768080600@www.rosetownramblers.com
SUMMARY:Annual Black and White Ball with Stephen Cole
DESCRIPTION:Join us for one of the biggest highlights on our square dance calendar: Our Black and White Ball with Stephen Cole calling. \nWear any combination of black and white attire–it doesn’t have to be formal–or just come as you are. The Ramblers never have a dress code\, but we are all about welcoming visitors and having a great time. We’ll alternate Mainstream/SSD and Plus tips from 7-9:30 pm. \nSolo dancers are welcome!
URL:https://www.rosetownramblers.com/calendar/annual-black-and-white-ball-with-stephen-cole/
LOCATION:Oak Grove Community Club\, 14496 Southeast Cedar Avenue\, Portland\, OR\, 97267\, US
CATEGORIES:Dancing with the Ramblers
END:VEVENT
BEGIN:VEVENT
DTSTART;TZID=America/Los_Angeles:20260214T190000
DTEND;TZID=America/Los_Angeles:20260214T213000
DTSTAMP:20260422T144636
CREATED:20251024T225828Z
LAST-MODIFIED:20260224T062939Z
UID:5051-1771095600-1771104600@www.rosetownramblers.com
SUMMARY:Roses and Rainbows 43rd Anniversary Dance with Michael Kellogg
DESCRIPTION:Help the Ramblers celebrate our 43rd anniversary with international megastar Michael Kellogg calling. Michael is one of our most popular callers. He calls over the world\, including throughout North America\, Japan\, Germany\, Denmark\, Sweden\, and Norway. We celebrate our anniversaries with roses and rainbows–or just come as you are. No dress code at the Ramblers! \nWe alternate SSD/Mainstream and Plus tips from 7-9:30 pm. \nWe love welcoming visitors to our friendly club. Solo dancers are welcome and will have plenty of chances to dance!
URL:https://www.rosetownramblers.com/calendar/roses-and-rainbows-43rd-anniversary-dance-with-michael-kellogg/
LOCATION:Oak Grove Community Club\, 14496 Southeast Cedar Avenue\, Portland\, OR\, 97267\, US
CATEGORIES:Dancing with the Ramblers
END:VEVENT
BEGIN:VEVENT
DTSTART;TZID=America/Los_Angeles:20260224T190000
DTEND;TZID=America/Los_Angeles:20260224T200000
DTSTAMP:20260422T144636
CREATED:20260223T053345Z
LAST-MODIFIED:20260223T053345Z
UID:5094-1771959600-1771963200@www.rosetownramblers.com
SUMMARY:Board Meeting - February
DESCRIPTION:This is the regularly scheduled board meeting.  Meetings are on the 4th Tuesday of the month unless there’s a conflict with a regular holiday.
URL:https://www.rosetownramblers.com/calendar/board-meeting-february/
LOCATION:Zoom
CATEGORIES:Rosetown Ramblers Board
END:VEVENT
BEGIN:VEVENT
DTSTART;TZID=America/Los_Angeles:20260314T190000
DTEND;TZID=America/Los_Angeles:20260314T213000
DTSTAMP:20260422T144636
CREATED:20251024T230919Z
LAST-MODIFIED:20260303T062232Z
UID:5053-1773514800-1773523800@www.rosetownramblers.com
SUMMARY:Annual Purple Party with Terri Sherrer
DESCRIPTION:We have our annual Purple Party in March to commemorate International Women’s Day. \nUnfortunately\, Kris Jensen had to withdraw from calling.   We are profoundly lucky to have secured Terri Sherrer as a last-minute replacement.   THANK YOU!! \nDon your purple togs and join the fun. We alternate SSD/Mainstream and Plus tips from 7-9:30 pm. \nNo dress code! \nSolo dancers welcome!
URL:https://www.rosetownramblers.com/calendar/annual-purple-party-with-kris-jensen/
LOCATION:Oak Grove Community Club\, 14496 Southeast Cedar Avenue\, Portland\, OR\, 97267\, US
CATEGORIES:Dancing with the Ramblers
END:VEVENT
BEGIN:VEVENT
DTSTART;TZID=America/Los_Angeles:20260411T190000
DTEND;TZID=America/Los_Angeles:20260411T213000
DTSTAMP:20260422T144636
CREATED:20251024T235306Z
LAST-MODIFIED:20260224T062859Z
UID:5056-1775934000-1775943000@www.rosetownramblers.com
SUMMARY:Spring Fling with Stephen Noseck
DESCRIPTION:Celebrate the coming of spring with the Ramblers and Seattle caller Stephen Noseck. We alternate Mainstream/SSD and Plus tips from 7-9:30 pm. We welcome all dancers\, and we especially love visitors! \nNo dress code! \nSolo dancers welcome!
URL:https://www.rosetownramblers.com/calendar/spring-fling-with-stephen-noseck/
LOCATION:Oak Grove Community Club\, 14496 Southeast Cedar Avenue\, Portland\, OR\, 97267\, US
CATEGORIES:Dancing with the Ramblers
END:VEVENT
BEGIN:VEVENT
DTSTART;TZID=America/Los_Angeles:20260509T190000
DTEND;TZID=America/Los_Angeles:20260509T213000
DTSTAMP:20260422T144636
CREATED:20251024T235604Z
LAST-MODIFIED:20260224T062843Z
UID:5058-1778353200-1778362200@www.rosetownramblers.com
SUMMARY:Mad Plaid Grad Dance--Free!
DESCRIPTION:Our most recent group of students will graduate at this dance\, called by our stellar teacher Rick Hawes. Help our students celebrate this accomplishment and welcome them to the square dance family. Crazy combinations of plaid attire and accessories are encouraged. We’ll dance SSD/Mainstream\, with every third tip Plus. \nNo dress code! \nSolo dancers welcome!
URL:https://www.rosetownramblers.com/calendar/mad-plaid-grad-dance-free/
LOCATION:Oak Grove Community Club\, 14496 Southeast Cedar Avenue\, Portland\, OR\, 97267\, US
CATEGORIES:Dancing with the Ramblers
END:VEVENT
BEGIN:VEVENT
DTSTART;TZID=America/Los_Angeles:20260613T190000
DTEND;TZID=America/Los_Angeles:20260613T213000
DTSTAMP:20260422T144636
CREATED:20251024T235932Z
LAST-MODIFIED:20260224T062819Z
UID:5060-1781377200-1781386200@www.rosetownramblers.com
SUMMARY:Pride Dance with Karla Westphal
DESCRIPTION:The Ramblers celebrate Pride every June. This year\, we are thrilled to welcome Karla Westphal to call for us. Karla always does an amazing job selecting music consistent with our dance theme–come see what she dreams up for Pride. We are sure it will be fabulous! We alternate SSD/Mainstream and Plus tips from 7-9:30 pm. We welcome all dancers\, and we love visitors. \nNo dress code! \nSolo dancers welcome!
URL:https://www.rosetownramblers.com/calendar/pride-dance-with-karla-westphal/
LOCATION:Oak Grove Community Club\, 14496 Southeast Cedar Avenue\, Portland\, OR\, 97267\, US
CATEGORIES:Dancing with the Ramblers
END:VEVENT
END:VCALENDAR