BEGIN:VCALENDAR
VERSION:2.0
PRODID:-//Rosetown Ramblers - ECPv6.15.16//NONSGML v1.0//EN
CALSCALE:GREGORIAN
METHOD:PUBLISH
X-ORIGINAL-URL:https://www.rosetownramblers.com
X-WR-CALDESC:Events for Rosetown Ramblers
REFRESH-INTERVAL;VALUE=DURATION:PT1H
X-Robots-Tag:noindex
X-PUBLISHED-TTL:PT1H
BEGIN:VTIMEZONE
TZID:America/Los_Angeles
BEGIN:DAYLIGHT
TZOFFSETFROM:-0800
TZOFFSETTO:-0700
TZNAME:PDT
DTSTART:20230312T100000
END:DAYLIGHT
BEGIN:STANDARD
TZOFFSETFROM:-0700
TZOFFSETTO:-0800
TZNAME:PST
DTSTART:20231105T090000
END:STANDARD
BEGIN:DAYLIGHT
TZOFFSETFROM:-0800
TZOFFSETTO:-0700
TZNAME:PDT
DTSTART:20240310T100000
END:DAYLIGHT
BEGIN:STANDARD
TZOFFSETFROM:-0700
TZOFFSETTO:-0800
TZNAME:PST
DTSTART:20241103T090000
END:STANDARD
BEGIN:DAYLIGHT
TZOFFSETFROM:-0800
TZOFFSETTO:-0700
TZNAME:PDT
DTSTART:20250309T100000
END:DAYLIGHT
BEGIN:STANDARD
TZOFFSETFROM:-0700
TZOFFSETTO:-0800
TZNAME:PST
DTSTART:20251102T090000
END:STANDARD
BEGIN:DAYLIGHT
TZOFFSETFROM:-0800
TZOFFSETTO:-0700
TZNAME:PDT
DTSTART:20260308T100000
END:DAYLIGHT
BEGIN:STANDARD
TZOFFSETFROM:-0700
TZOFFSETTO:-0800
TZNAME:PST
DTSTART:20261101T090000
END:STANDARD
END:VTIMEZONE
BEGIN:VEVENT
DTSTART;TZID=America/Los_Angeles:20240413T160000
DTEND;TZID=America/Los_Angeles:20240413T180000
DTSTAMP:20260421T151546
CREATED:20231208T210207Z
LAST-MODIFIED:20231208T210207Z
UID:4780-1713024000-1713031200@www.rosetownramblers.com
SUMMARY:Heads to the Center Advanced Dance
DESCRIPTION:Advanced Dance 4-6 pm \nRamblers Dance 7-9:30 pm
URL:https://www.rosetownramblers.com/calendar/heads-to-the-center-advanced-dance-4/
LOCATION:Oak Grove Community Club\, 14496 Southeast Cedar Avenue\, Portland\, OR\, 97267\, US
END:VEVENT
BEGIN:VEVENT
DTSTART;TZID=America/Los_Angeles:20240413T190000
DTEND;TZID=America/Los_Angeles:20240413T213000
DTSTAMP:20260421T151546
CREATED:20231202T004641Z
LAST-MODIFIED:20231202T004641Z
UID:4742-1713034800-1713043800@www.rosetownramblers.com
SUMMARY:Monthly Social Dance: Spring Fling with Terri Sherrer
DESCRIPTION:We are thrilled to welcome Terri Sherrer back for our Spring Fling dance. Terri comes to us from Palm Springs\, and is one of our most popular woman callers. \nOur monthly social dances are geared to experienced dancers. We dance the Social Square Dance (Mainstream) and Plus levels. (New dancers are also warmly welcomed to watch and socialize with the Ramblers. If you are interested in learning to dance\, check out our lessons!) \nAs is the case for all Ramblers dances: \n* Casual attire is encouraged.\n* No partner is necessary.
URL:https://www.rosetownramblers.com/calendar/monthly-social-dance-spring-fling-with-terri-sherrer/
LOCATION:Oak Grove Community Club\, 14496 Southeast Cedar Avenue\, Portland\, OR\, 97267\, US
END:VEVENT
BEGIN:VEVENT
DTSTART;TZID=America/Los_Angeles:20240511T160000
DTEND;TZID=America/Los_Angeles:20240511T180000
DTSTAMP:20260421T151546
CREATED:20231208T210314Z
LAST-MODIFIED:20231208T210314Z
UID:4782-1715443200-1715450400@www.rosetownramblers.com
SUMMARY:Heads to the Center Advanced Dance
DESCRIPTION:Advanced Dance 4-6 pm \nRamblers Dance 7-9:30 pm
URL:https://www.rosetownramblers.com/calendar/heads-to-the-center-advanced-dance-5/
LOCATION:Oak Grove Community Club\, 14496 Southeast Cedar Avenue\, Portland\, OR\, 97267\, US
END:VEVENT
BEGIN:VEVENT
DTSTART;TZID=America/Los_Angeles:20240511T190000
DTEND;TZID=America/Los_Angeles:20240511T213000
DTSTAMP:20260421T151546
CREATED:20231202T004902Z
LAST-MODIFIED:20231202T004951Z
UID:4744-1715454000-1715463000@www.rosetownramblers.com
SUMMARY:Monthly Social Dance: Mad Plaid Grad with Rick Hawes and Rob Page
DESCRIPTION:This is a our Mad Plaid Grad dance\, when we celebrate our wonderful students’ completion of Social Square Dance lessons. In the spirit of celebration\, this dance is free for anyone who is a member of a square dance club in the Oregon Federation of Square and Round Dance Clubs. Wear your club badge so we know where you dance! \nOur monthly social dances are geared to experienced dancers. We dance the Social Square Dance (Mainstream) and Plus levels. (New dancers are also warmly welcomed to watch and socialize with the Ramblers. If you are interested in learning to dance\, check out our lessons!) \nAs is the case for all Ramblers dances: \n* Casual attire is encouraged.\n* No partner is necessary.
URL:https://www.rosetownramblers.com/calendar/monthly-social-dance-mad-plaid-grad-with-rick-hawes-and-rob-page/
LOCATION:Oak Grove Community Club\, 14496 Southeast Cedar Avenue\, Portland\, OR\, 97267\, US
END:VEVENT
BEGIN:VEVENT
DTSTART;TZID=America/Los_Angeles:20240608T160000
DTEND;TZID=America/Los_Angeles:20240608T180000
DTSTAMP:20260421T151546
CREATED:20231208T210554Z
LAST-MODIFIED:20231208T210554Z
UID:4786-1717862400-1717869600@www.rosetownramblers.com
SUMMARY:Heads to the Center Advanced Dance
DESCRIPTION:Advanced Dance 4-6 pm \nRamblers Dance 7-9:30 pm
URL:https://www.rosetownramblers.com/calendar/heads-to-the-center-advanced-dance-6/
LOCATION:Oak Grove Community Club\, 14496 Southeast Cedar Avenue\, Portland\, OR\, 97267\, US
END:VEVENT
BEGIN:VEVENT
DTSTART;TZID=America/Los_Angeles:20240608T190000
DTEND;TZID=America/Los_Angeles:20240608T213000
DTSTAMP:20260421T151546
CREATED:20231202T005136Z
LAST-MODIFIED:20240112T031421Z
UID:4746-1717873200-1717882200@www.rosetownramblers.com
SUMMARY:Monthly Social Dance: Pride Dance with Stephen Cole
DESCRIPTION:Seattle Sensation Stephen Cole will call our Pride Dance this year. Stephen is one of our most popular callers–he’s called our Black and White Ball in January for many years. This is a chance to dazzle us with your rainbow finery to celebrate our dance community. \nOur monthly social dances are geared to experienced dancers. We dance the Social Square Dance (Mainstream) and Plus levels. (New dancers are also warmly welcomed to watch and socialize with the Ramblers. If you are interested in learning to dance\, check out our lessons!) \nAs is the case for all Ramblers dances: \n* Casual attire is encouraged.\n* No partner is necessary.
URL:https://www.rosetownramblers.com/calendar/monthly-social-dance-pride-dance-with-don-wood/
LOCATION:Oak Grove Community Club\, 14496 Southeast Cedar Avenue\, Portland\, OR\, 97267\, US
END:VEVENT
BEGIN:VEVENT
DTSTART;TZID=America/Los_Angeles:20240911T190000
DTEND;TZID=America/Los_Angeles:20240911T203000
DTSTAMP:20260421T151546
CREATED:20240729T214339Z
LAST-MODIFIED:20240729T214339Z
UID:4840-1726081200-1726086600@www.rosetownramblers.com
SUMMARY:Square Dance Lessons--First Free Introduction Tonight
DESCRIPTION:Our next lesson series starts on Wednesday\, September 11\, 2024. The first two weeks are a free taste…everyone is welcome to give dancing a try with no obligation to continue. If you like it (and we think you will)\, you can continue with our weekly lessons every Wednesday through approximately December 18\, 2024. \nThe lessons take place at the Bridgeport United Church of Christ\, 621 NE 76th Ave.\, Portland 97213. Lessons start promptly at 7 pm and continue until 8:30 pm. If you are curious\, you are welcome to drop in to observe a lesson. \nPlease note: \n\nDress comfortably and come ready to dance. You don’t need any special shoes or clothes to dance.\nNo partner necessary. We will make sure you have someone to dance with.\nBefore the first class\, decide whether you want to dance as the left-side dancer (typically called a “boy”) or the right-side dancer (typically called a “girl”). You can dance whichever position you feel comfortable in.
URL:https://www.rosetownramblers.com/calendar/square-dance-lessons-first-free-introduction-tonight/
LOCATION:Bridgeport United Church of Christ\, 621 NE 76th Ave.\, Portland\, OR\, 97213\, US
END:VEVENT
BEGIN:VEVENT
DTSTART;TZID=America/Los_Angeles:20240914T190000
DTEND;TZID=America/Los_Angeles:20240914T213000
DTSTAMP:20260421T151546
CREATED:20240728T185515Z
LAST-MODIFIED:20240728T185526Z
UID:4831-1726340400-1726349400@www.rosetownramblers.com
SUMMARY:Social Square Dance: Back to School with Scott Zinser
DESCRIPTION:After our summer hiatus\, we are back dancing on September 14 at Oak Grove Community Center\, 14496 SE Cedar Ave.\, Oak Grove. We alternate Social Square Dance (Mainstream) and Plus tips. \nScott Zinser will be helping us to scrape off our summer rust. \nCasual attire encouraged! \nNo partner required!
URL:https://www.rosetownramblers.com/calendar/social-square-dance-back-to-school-with-scott-zinser/
LOCATION:Oak Grove Community Club\, 14496 Southeast Cedar Avenue\, Portland\, OR\, 97267\, US
END:VEVENT
BEGIN:VEVENT
DTSTART;TZID=America/Los_Angeles:20240918T190000
DTEND;TZID=America/Los_Angeles:20240918T203000
DTSTAMP:20260421T151546
CREATED:20240729T214647Z
LAST-MODIFIED:20240729T214647Z
UID:4843-1726686000-1726691400@www.rosetownramblers.com
SUMMARY:Square Dance Lessons--Second Free Introduction Tonight
DESCRIPTION:Our next lesson series starts on Wednesday\, September 11\, 2024. The first two weeks are a free taste…everyone is welcome to give dancing a try with no obligation to continue. If you like it (and we think you will)\, you can continue with our weekly lessons every Wednesday through approximately December 18\, 2024. \nThe lessons take place at the Bridgeport United Church of Christ\, 621 NE 76th Ave.\, Portland 97213. Lessons start promptly at 7 pm and continue until 8:30 pm. If you are curious\, you are welcome to drop in to observe a lesson. \nPlease note: \nDress comfortably and come ready to dance. You don’t need any special shoes or clothes to dance.\nNo partner necessary. We will make sure you have someone to dance with.\nBefore the first class\, decide whether you want to dance as the left-side dancer (typically called a “boy”) or the right-side dancer (typically called a “girl”). You can dance whichever position you feel comfortable in.
URL:https://www.rosetownramblers.com/calendar/square-dance-lessons-second-free-introduction-tonight/
LOCATION:Bridgeport United Church of Christ\, 621 NE 76th Ave.\, Portland\, OR\, 97213\, US
END:VEVENT
BEGIN:VEVENT
DTSTART;TZID=America/Los_Angeles:20240925T190000
DTEND;TZID=America/Los_Angeles:20240925T203000
DTSTAMP:20260421T151546
CREATED:20240729T214924Z
LAST-MODIFIED:20240729T214924Z
UID:4845-1727290800-1727296200@www.rosetownramblers.com
SUMMARY:Social Square Dance Lessons--Week 1
DESCRIPTION:Our lesson series started on Wednesday\, September 11\, 2024. Tonight is the last night to start as a new dancer. Our weekly lessons continue every Wednesday through approximately December 18\, 2024. \nThe lessons take place at the Bridgeport United Church of Christ\, 621 NE 76th Ave.\, Portland 97213. Lessons start promptly at 7 pm and continue until 8:30 pm. If you are curious\, you are welcome to drop in to observe a lesson. \nPlease note: \nDress comfortably and come ready to dance. You don’t need any special shoes or clothes to dance.\nNo partner necessary. We will make sure you have someone to dance with.
URL:https://www.rosetownramblers.com/calendar/social-square-dance-lessons-week-1/
LOCATION:Bridgeport United Church of Christ\, 621 NE 76th Ave.\, Portland\, OR\, 97213\, US
END:VEVENT
BEGIN:VEVENT
DTSTART;TZID=America/Los_Angeles:20241002T190000
DTEND;TZID=America/Los_Angeles:20241002T203000
DTSTAMP:20260421T151546
CREATED:20240729T215245Z
LAST-MODIFIED:20240729T215245Z
UID:4847-1727895600-1727901000@www.rosetownramblers.com
SUMMARY:Social Square Dance Lessons--Week 2
DESCRIPTION:Our lesson series started on Wednesday\, September 11\, 2024. This lesson series is now closed to new dancers. However\, angels are welcome to join us. \nOur weekly lessons continue every Wednesday through approximately December 18\, 2024. \nThe lessons take place at the Bridgeport United Church of Christ\, 621 NE 76th Ave.\, Portland 97213. Lessons start promptly at 7 pm and continue until 8:30 pm. If you are curious\, you are welcome to drop in to observe a lesson. \nPlease note: \nDress comfortably and come ready to dance. You don’t need any special shoes or clothes to dance.\nNo partner necessary. We will make sure you have someone to dance with.
URL:https://www.rosetownramblers.com/calendar/social-square-dance-lessons-week-2/
LOCATION:Bridgeport United Church of Christ\, 621 NE 76th Ave.\, Portland\, OR\, 97213\, US
END:VEVENT
BEGIN:VEVENT
DTSTART;TZID=America/Los_Angeles:20241009T190000
DTEND;TZID=America/Los_Angeles:20241009T203000
DTSTAMP:20260421T151546
CREATED:20240729T215426Z
LAST-MODIFIED:20240729T215426Z
UID:4849-1728500400-1728505800@www.rosetownramblers.com
SUMMARY:Social Square Dance Lessons--Week 3
DESCRIPTION:Our lesson series started on Wednesday\, September 11\, 2024. This lesson series is now closed to new dancers. However\, angels are welcome to join us. \nOur weekly lessons continue every Wednesday through approximately December 18\, 2024. \nThe lessons take place at the Bridgeport United Church of Christ\, 621 NE 76th Ave.\, Portland 97213. Lessons start promptly at 7 pm and continue until 8:30 pm. If you are curious\, you are welcome to drop in to observe a lesson. \nPlease note: \nDress comfortably and come ready to dance. You don’t need any special shoes or clothes to dance.\nNo partner necessary. We will make sure you have someone to dance with.
URL:https://www.rosetownramblers.com/calendar/social-square-dance-lessons-week-3/
LOCATION:Bridgeport United Church of Christ\, 621 NE 76th Ave.\, Portland\, OR\, 97213\, US
END:VEVENT
BEGIN:VEVENT
DTSTART;TZID=America/Los_Angeles:20241011T190000
DTEND;TZID=America/Los_Angeles:20241013T123000
DTSTAMP:20260421T151546
CREATED:20240728T190311Z
LAST-MODIFIED:20240728T190311Z
UID:4833-1728673200-1728822600@www.rosetownramblers.com
SUMMARY:Scares and Squares Weekend Fly-in
DESCRIPTION:Scares and Squares is back! We’ll have two sensational international callers: Eric Henerlau and Hunter Keller. We’ll be dancing all programs from SSD to C2. Our featured callers will be assisted by Ramblers Rick Hawes and Rob Page. We will also have a chance to learn a simple round dance\, taught by Oregon’s own Rikki Lobato. \nDance sessions will take place Friday evening\, all day Saturday\, Saturday evening\, and Sunday morning. In short\, you will get plenty of floor time! \nThe venue will be the beautiful Beaverton Elks Lodge\, which is just east of OR 217\, two blocks north of Canyon Road. Easy to get too and plenty of parking. \nCost for the entire weekend is just $90 if you register by September 15.
URL:https://www.rosetownramblers.com/calendar/scares-and-squares-weekend-fly-in/
LOCATION:Beaverton Elks Lodge\, 3464 SW 106th Ave.\, Beaverton\, OR\, 97005
END:VEVENT
BEGIN:VEVENT
DTSTART;TZID=America/Los_Angeles:20241016T190000
DTEND;TZID=America/Los_Angeles:20241016T203000
DTSTAMP:20260421T151546
CREATED:20240729T215526Z
LAST-MODIFIED:20241002T022221Z
UID:4851-1729105200-1729110600@www.rosetownramblers.com
SUMMARY:No lesson this week! See you 10/23
DESCRIPTION:Our normal dance space is not available this week\, so we will take the night off. See you next week!
URL:https://www.rosetownramblers.com/calendar/social-square-dance-lessons-week-4/
LOCATION:Bridgeport United Church of Christ\, 621 NE 76th Ave.\, Portland\, OR\, 97213\, US
END:VEVENT
BEGIN:VEVENT
DTSTART;TZID=America/Los_Angeles:20241023T190000
DTEND;TZID=America/Los_Angeles:20241023T203000
DTSTAMP:20260421T151546
CREATED:20240729T215655Z
LAST-MODIFIED:20240729T215655Z
UID:4853-1729710000-1729715400@www.rosetownramblers.com
SUMMARY:Social Square Dance Lessons--Week 5
DESCRIPTION:Our lesson series started on Wednesday\, September 11\, 2024. This lesson series is now closed to new dancers. However\, angels are welcome to join us. \nOur weekly lessons continue every Wednesday through approximately December 18\, 2024. \nThe lessons take place at the Bridgeport United Church of Christ\, 621 NE 76th Ave.\, Portland 97213. Lessons start promptly at 7 pm and continue until 8:30 pm. If you are curious\, you are welcome to drop in to observe a lesson. \nPlease note: \nDress comfortably and come ready to dance. You don’t need any special shoes or clothes to dance.\nNo partner necessary. We will make sure you have someone to dance with.
URL:https://www.rosetownramblers.com/calendar/social-square-dance-lessons-week-5/
LOCATION:Bridgeport United Church of Christ\, 621 NE 76th Ave.\, Portland\, OR\, 97213\, US
END:VEVENT
BEGIN:VEVENT
DTSTART;TZID=America/Los_Angeles:20241030T190000
DTEND;TZID=America/Los_Angeles:20241030T203000
DTSTAMP:20260421T151546
CREATED:20240729T215754Z
LAST-MODIFIED:20240729T215754Z
UID:4855-1730314800-1730320200@www.rosetownramblers.com
SUMMARY:Social Square Dance--Week 6
DESCRIPTION:Our lesson series started on Wednesday\, September 11\, 2024. This lesson series is now closed to new dancers. However\, angels are welcome to join us. \nOur weekly lessons continue every Wednesday through approximately December 18\, 2024. \nThe lessons take place at the Bridgeport United Church of Christ\, 621 NE 76th Ave.\, Portland 97213. Lessons start promptly at 7 pm and continue until 8:30 pm. If you are curious\, you are welcome to drop in to observe a lesson. \nPlease note: \nDress comfortably and come ready to dance. You don’t need any special shoes or clothes to dance.\nNo partner necessary. We will make sure you have someone to dance with.
URL:https://www.rosetownramblers.com/calendar/social-square-dance-week-6/
LOCATION:Bridgeport United Church of Christ\, 621 NE 76th Ave.\, Portland\, OR\, 97213\, US
END:VEVENT
BEGIN:VEVENT
DTSTART;TZID=America/Los_Angeles:20241106T190000
DTEND;TZID=America/Los_Angeles:20241106T203000
DTSTAMP:20260421T151546
CREATED:20240729T215850Z
LAST-MODIFIED:20240729T215850Z
UID:4857-1730919600-1730925000@www.rosetownramblers.com
SUMMARY:Social Square Dance Lessons--Week 7
DESCRIPTION:Our lesson series started on Wednesday\, September 11\, 2024. This lesson series is now closed to new dancers. However\, angels are welcome to join us. \nOur weekly lessons continue every Wednesday through approximately December 18\, 2024. \nThe lessons take place at the Bridgeport United Church of Christ\, 621 NE 76th Ave.\, Portland 97213. Lessons start promptly at 7 pm and continue until 8:30 pm. If you are curious\, you are welcome to drop in to observe a lesson. \nPlease note: \nDress comfortably and come ready to dance. You don’t need any special shoes or clothes to dance.\nNo partner necessary. We will make sure you have someone to dance with.
URL:https://www.rosetownramblers.com/calendar/social-square-dance-lessons-week-7/
LOCATION:Bridgeport United Church of Christ\, 621 NE 76th Ave.\, Portland\, OR\, 97213\, US
END:VEVENT
BEGIN:VEVENT
DTSTART;TZID=America/Los_Angeles:20241109T190000
DTEND;TZID=America/Los_Angeles:20241109T213000
DTSTAMP:20260421T151546
CREATED:20240728T190638Z
LAST-MODIFIED:20240728T190638Z
UID:4836-1731178800-1731187800@www.rosetownramblers.com
SUMMARY:Social Square Dance: Pass the Pumpkin!
DESCRIPTION:Join the Rosetown Ramblers LGBTQIA Square Dance Club for our monthly social square dance. Our monthly social dances are intended for experienced dancers. We alternate Social Square Dance (Mainstream) and Plus tips. Our November caller will be Chuck Simpkins from Grants Pass. \nIf you are interested in learning to dance\, check out our lessons. \nCome join us for a lively evening of LGBTQ-friendly square dancing in a welcoming and supportive environment!
URL:https://www.rosetownramblers.com/calendar/social-square-dance-pass-the-pumpkin/
LOCATION:Oak Grove Community Club\, 14496 Southeast Cedar Avenue\, Portland\, OR\, 97267\, US
END:VEVENT
BEGIN:VEVENT
DTSTART;TZID=America/Los_Angeles:20241113T190000
DTEND;TZID=America/Los_Angeles:20241113T203000
DTSTAMP:20260421T151546
CREATED:20240729T215955Z
LAST-MODIFIED:20240729T215955Z
UID:4859-1731524400-1731529800@www.rosetownramblers.com
SUMMARY:Social Square Dance Lessons--Week 8
DESCRIPTION:Our lesson series started on Wednesday\, September 11\, 2024. This lesson series is now closed to new dancers. However\, angels are welcome to join us. \nOur weekly lessons continue every Wednesday through approximately December 18\, 2024. \nThe lessons take place at the Bridgeport United Church of Christ\, 621 NE 76th Ave.\, Portland 97213. Lessons start promptly at 7 pm and continue until 8:30 pm. If you are curious\, you are welcome to drop in to observe a lesson. \nPlease note: \nDress comfortably and come ready to dance. You don’t need any special shoes or clothes to dance.\nNo partner necessary. We will make sure you have someone to dance with.
URL:https://www.rosetownramblers.com/calendar/social-square-dance-lessons-week-8/
LOCATION:Bridgeport United Church of Christ\, 621 NE 76th Ave.\, Portland\, OR\, 97213\, US
END:VEVENT
BEGIN:VEVENT
DTSTART;TZID=America/Los_Angeles:20241120T190000
DTEND;TZID=America/Los_Angeles:20241120T193000
DTSTAMP:20260421T151546
CREATED:20240729T220109Z
LAST-MODIFIED:20240729T220109Z
UID:4861-1732129200-1732131000@www.rosetownramblers.com
SUMMARY:Social Square Dance Lessons--Week 9
DESCRIPTION:Our lesson series started on Wednesday\, September 11\, 2024. This lesson series is now closed to new dancers. However\, angels are welcome to join us. \nOur weekly lessons continue every Wednesday through approximately December 18\, 2024. \nThe lessons take place at the Bridgeport United Church of Christ\, 621 NE 76th Ave.\, Portland 97213. Lessons start promptly at 7 pm and continue until 8:30 pm. If you are curious\, you are welcome to drop in to observe a lesson. \nPlease note: \nDress comfortably and come ready to dance. You don’t need any special shoes or clothes to dance.\nNo partner necessary. We will make sure you have someone to dance with.
URL:https://www.rosetownramblers.com/calendar/social-square-dance-lessons-week-9/
LOCATION:Bridgeport United Church of Christ\, 621 NE 76th Ave.\, Portland\, OR\, 97213\, US
END:VEVENT
BEGIN:VEVENT
DTSTART;TZID=America/Los_Angeles:20241127T190000
DTEND;TZID=America/Los_Angeles:20241127T203000
DTSTAMP:20260421T151546
CREATED:20240729T220251Z
LAST-MODIFIED:20240729T220251Z
UID:4863-1732734000-1732739400@www.rosetownramblers.com
SUMMARY:Social Square Dance Lessons--No class tonight (Thanksgiving Break)
DESCRIPTION:We will not be meeting tonight. Happy Thanksgiving!
URL:https://www.rosetownramblers.com/calendar/social-square-dance-lessons-no-class-tonight-thanksgiving-break/
END:VEVENT
BEGIN:VEVENT
DTSTART;TZID=America/Los_Angeles:20241204T190000
DTEND;TZID=America/Los_Angeles:20241204T203000
DTSTAMP:20260421T151546
CREATED:20240729T220443Z
LAST-MODIFIED:20240729T220443Z
UID:4865-1733338800-1733344200@www.rosetownramblers.com
SUMMARY:Social Square Dance Lessons--Week 10
DESCRIPTION:Our lesson series started on Wednesday\, September 11\, 2024. This lesson series is now closed to new dancers. However\, angels are welcome to join us. \nOur weekly lessons continue every Wednesday through approximately December 18\, 2024. \nThe lessons take place at the Bridgeport United Church of Christ\, 621 NE 76th Ave.\, Portland 97213. Lessons start promptly at 7 pm and continue until 8:30 pm. If you are curious\, you are welcome to drop in to observe a lesson. \nPlease note: \nDress comfortably and come ready to dance. You don’t need any special shoes or clothes to dance.\nNo partner necessary. We will make sure you have someone to dance with.
URL:https://www.rosetownramblers.com/calendar/social-square-dance-lessons-week-10/
LOCATION:Bridgeport United Church of Christ\, 621 NE 76th Ave.\, Portland\, OR\, 97213\, US
END:VEVENT
BEGIN:VEVENT
DTSTART;TZID=America/Los_Angeles:20241211T190000
DTEND;TZID=America/Los_Angeles:20241211T203000
DTSTAMP:20260421T151546
CREATED:20240729T220551Z
LAST-MODIFIED:20240729T220551Z
UID:4867-1733943600-1733949000@www.rosetownramblers.com
SUMMARY:Social Square Dance Lessons--Week 11
DESCRIPTION:Our lesson series started on Wednesday\, September 11\, 2024. This lesson series is now closed to new dancers. However\, angels are welcome to join us. \nOur weekly lessons continue every Wednesday through approximately December 18\, 2024. \nThe lessons take place at the Bridgeport United Church of Christ\, 621 NE 76th Ave.\, Portland 97213. Lessons start promptly at 7 pm and continue until 8:30 pm. If you are curious\, you are welcome to drop in to observe a lesson. \nPlease note: \nDress comfortably and come ready to dance. You don’t need any special shoes or clothes to dance.\nNo partner necessary. We will make sure you have someone to dance with.
URL:https://www.rosetownramblers.com/calendar/social-square-dance-lessons-week-11/
LOCATION:Bridgeport United Church of Christ\, 621 NE 76th Ave.\, Portland\, OR\, 97213\, US
END:VEVENT
BEGIN:VEVENT
DTSTART;TZID=America/Los_Angeles:20241214T190000
DTEND;TZID=America/Los_Angeles:20241214T213000
DTSTAMP:20260421T151546
CREATED:20240728T190935Z
LAST-MODIFIED:20240728T190935Z
UID:4838-1734202800-1734211800@www.rosetownramblers.com
SUMMARY:Social Square Dance: Cool Yule!
DESCRIPTION:Join the Rosetown Ramblers LGBTQIA Square Dance Club for our monthly social square dance. Our monthly social dances are intended for experienced dancers. We alternate Social Square Dance (Mainstream) and Plus tips. Our December caller will be Seattle’s Vance Morrison\, who will be making his Portland debut. \nIf you are interested in learning to dance\, check out our lessons. \nCome join us for a lively evening of LGBTQ-friendly square dancing in a welcoming and supportive environment!
URL:https://www.rosetownramblers.com/calendar/social-square-dance-cool-yule/
LOCATION:Oak Grove Community Club\, 14496 Southeast Cedar Avenue\, Portland\, OR\, 97267\, US
END:VEVENT
BEGIN:VEVENT
DTSTART;TZID=America/Los_Angeles:20241218T190000
DTEND;TZID=America/Los_Angeles:20241218T203000
DTSTAMP:20260421T151546
CREATED:20240729T220800Z
LAST-MODIFIED:20240729T220800Z
UID:4869-1734548400-1734553800@www.rosetownramblers.com
SUMMARY:Social Square Dance Lessons--Final Week!
DESCRIPTION:Our lesson series started on Wednesday\, September 11\, 2024. This is the last lesson in this series. We look forward to seeing all our new dancers at our Black and White Ball on January 11\, 2025. \n 
URL:https://www.rosetownramblers.com/calendar/social-square-dance-lessons-final-week/
LOCATION:Bridgeport United Church of Christ\, 621 NE 76th Ave.\, Portland\, OR\, 97213\, US
END:VEVENT
BEGIN:VEVENT
DTSTART;TZID=America/Los_Angeles:20250111T190000
DTEND;TZID=America/Los_Angeles:20250111T213000
DTSTAMP:20260421T151546
CREATED:20240730T013230Z
LAST-MODIFIED:20240730T013230Z
UID:4873-1736622000-1736631000@www.rosetownramblers.com
SUMMARY:Social Square Dance: Black and White Ball
DESCRIPTION:Stephen Cole returns to call our annual Black and White Ball. This is one of the most popular dances on our calendar. Dancers are encouraged to wear creative combinations of black and white attire. Square dance attire is never required at Rambler events–wear whatever makes you comfortable. \nWe alternate SSD/Mainstream and Plus tips from 7-9:30 pm.
URL:https://www.rosetownramblers.com/calendar/social-square-dance-black-and-white-ball/
LOCATION:Oak Grove Community Club\, 14496 Southeast Cedar Avenue\, Portland\, OR\, 97267\, US
END:VEVENT
BEGIN:VEVENT
DTSTART;TZID=America/Los_Angeles:20250208T160000
DTEND;TZID=America/Los_Angeles:20250208T180000
DTSTAMP:20260421T151546
CREATED:20250115T235851Z
LAST-MODIFIED:20250115T235851Z
UID:4917-1739030400-1739037600@www.rosetownramblers.com
SUMMARY:Advanced Dance
DESCRIPTION:Adam Christman calls for Heads to the Center
URL:https://www.rosetownramblers.com/calendar/advanced-dance/
LOCATION:Oak Grove Community Club\, 14496 Southeast Cedar Avenue\, Portland\, OR\, 97267\, US
END:VEVENT
BEGIN:VEVENT
DTSTART;TZID=America/Los_Angeles:20250208T190000
DTEND;TZID=America/Los_Angeles:20250208T213000
DTSTAMP:20260421T151546
CREATED:20240730T013624Z
LAST-MODIFIED:20240730T013624Z
UID:4875-1739041200-1739050200@www.rosetownramblers.com
SUMMARY:Social Square Dance: 42nd Anniversary Dance
DESCRIPTION:Come help with Ramblers celebrate 42 years of friendship\, fun\, and frolics. Spokane’s Adam Christman\, popular across the Northwest and beyond\, will be calling this dance. \nWe alternate Social Square Dance/Mainstream and Plus tips. \nSquare dance attire is never required at Ramblers events–dress however you feel comfortable.
URL:https://www.rosetownramblers.com/calendar/social-square-dance-42nd-anniversary-dance/
LOCATION:Oak Grove Community Club\, 14496 Southeast Cedar Avenue\, Portland\, OR\, 97267\, US
END:VEVENT
BEGIN:VEVENT
DTSTART;TZID=America/Los_Angeles:20250225T190000
DTEND;TZID=America/Los_Angeles:20250225T203000
DTSTAMP:20260421T151546
CREATED:20250224T051321Z
LAST-MODIFIED:20250224T051321Z
UID:4932-1740510000-1740515400@www.rosetownramblers.com
SUMMARY:Ramblers Board meeting
DESCRIPTION:
URL:https://www.rosetownramblers.com/calendar/ramblers-board-meeting/
END:VEVENT
BEGIN:VEVENT
DTSTART;TZID=America/Los_Angeles:20250308T160000
DTEND;TZID=America/Los_Angeles:20250308T180000
DTSTAMP:20260421T151546
CREATED:20250224T051226Z
LAST-MODIFIED:20250224T051226Z
UID:4930-1741449600-1741456800@www.rosetownramblers.com
SUMMARY:Advanced Dance with Karla Westphal
DESCRIPTION:Heads to the Center hosts this Advanced dance at Oak Grove.
URL:https://www.rosetownramblers.com/calendar/advanced-dance-with-karla-westphal/
LOCATION:Oak Grove Community Club\, 14496 Southeast Cedar Avenue\, Portland\, OR\, 97267\, US
END:VEVENT
END:VCALENDAR