BEGIN:VCALENDAR
VERSION:2.0
PRODID:-//Rosetown Ramblers - ECPv6.15.16//NONSGML v1.0//EN
CALSCALE:GREGORIAN
METHOD:PUBLISH
X-ORIGINAL-URL:https://www.rosetownramblers.com
X-WR-CALDESC:Events for Rosetown Ramblers
REFRESH-INTERVAL;VALUE=DURATION:PT1H
X-Robots-Tag:noindex
X-PUBLISHED-TTL:PT1H
BEGIN:VTIMEZONE
TZID:America/Los_Angeles
BEGIN:DAYLIGHT
TZOFFSETFROM:-0800
TZOFFSETTO:-0700
TZNAME:PDT
DTSTART:20220313T100000
END:DAYLIGHT
BEGIN:STANDARD
TZOFFSETFROM:-0700
TZOFFSETTO:-0800
TZNAME:PST
DTSTART:20221106T090000
END:STANDARD
BEGIN:DAYLIGHT
TZOFFSETFROM:-0800
TZOFFSETTO:-0700
TZNAME:PDT
DTSTART:20230312T100000
END:DAYLIGHT
BEGIN:STANDARD
TZOFFSETFROM:-0700
TZOFFSETTO:-0800
TZNAME:PST
DTSTART:20231105T090000
END:STANDARD
BEGIN:DAYLIGHT
TZOFFSETFROM:-0800
TZOFFSETTO:-0700
TZNAME:PDT
DTSTART:20240310T100000
END:DAYLIGHT
BEGIN:STANDARD
TZOFFSETFROM:-0700
TZOFFSETTO:-0800
TZNAME:PST
DTSTART:20241103T090000
END:STANDARD
END:VTIMEZONE
BEGIN:VEVENT
DTSTART;TZID=America/Los_Angeles:20230610T190000
DTEND;TZID=America/Los_Angeles:20230610T213000
DTSTAMP:20260422T124720
CREATED:20221229T021437Z
LAST-MODIFIED:20221229T021437Z
UID:4691-1686423600-1686432600@www.rosetownramblers.com
SUMMARY:Monthly Social Dance: Pride Dance
DESCRIPTION:Join the Ramblers for an energetic and entertaining square dance. We will be celebrating Pride for our June dance\, so break out the rainbow tutus or what have you to make this our most colorful dance of the year (and that’s saying something!). \nWe alternate Social Square Dance (Mainstream) and Plus tips from 7 to 9:30 pm. We are thrilled to welcome back caller Don Wood for this dance. Don calls all over the west coast\, and has recorded numerous square dance records. He’s one of our favorite callers\, and this promises to be a wonderful evening before we head into our summer break. Check us out!
URL:https://www.rosetownramblers.com/calendar/monthly-social-dance-pride-dance/
LOCATION:Oak Grove Community Club\, 14496 Southeast Cedar Avenue\, Portland\, OR\, 97267\, US
END:VEVENT
END:VCALENDAR