BEGIN:VCALENDAR
VERSION:2.0
PRODID:-//Rosetown Ramblers - ECPv6.15.16//NONSGML v1.0//EN
CALSCALE:GREGORIAN
METHOD:PUBLISH
X-ORIGINAL-URL:https://www.rosetownramblers.com
X-WR-CALDESC:Events for Rosetown Ramblers
REFRESH-INTERVAL;VALUE=DURATION:PT1H
X-Robots-Tag:noindex
X-PUBLISHED-TTL:PT1H
BEGIN:VTIMEZONE
TZID:America/Los_Angeles
BEGIN:DAYLIGHT
TZOFFSETFROM:-0800
TZOFFSETTO:-0700
TZNAME:PDT
DTSTART:20220313T100000
END:DAYLIGHT
BEGIN:STANDARD
TZOFFSETFROM:-0700
TZOFFSETTO:-0800
TZNAME:PST
DTSTART:20221106T090000
END:STANDARD
BEGIN:DAYLIGHT
TZOFFSETFROM:-0800
TZOFFSETTO:-0700
TZNAME:PDT
DTSTART:20230312T100000
END:DAYLIGHT
BEGIN:STANDARD
TZOFFSETFROM:-0700
TZOFFSETTO:-0800
TZNAME:PST
DTSTART:20231105T090000
END:STANDARD
BEGIN:DAYLIGHT
TZOFFSETFROM:-0800
TZOFFSETTO:-0700
TZNAME:PDT
DTSTART:20240310T100000
END:DAYLIGHT
BEGIN:STANDARD
TZOFFSETFROM:-0700
TZOFFSETTO:-0800
TZNAME:PST
DTSTART:20241103T090000
END:STANDARD
END:VTIMEZONE
BEGIN:VEVENT
DTSTART;TZID=America/Los_Angeles:20230211T190000
DTEND;TZID=America/Los_Angeles:20230211T213000
DTSTAMP:20260423T055558
CREATED:20221229T015331Z
LAST-MODIFIED:20221229T015331Z
UID:4683-1676142000-1676151000@www.rosetownramblers.com
SUMMARY:Monthly Social Dance: Rubies\, Rainbows\, and Roses
DESCRIPTION:The Ramblers are turning 40\, and we plan to celebrate in style with our Rubies\, Rainbows\, and Roses dance. Break out those ruby slippers and hit the dance floor with us. \nOur caller for this special night will be the magnificent Michael Kellogg from Southern California. \nWe alternate Social Square Dance (Mainstream) and Plus tips from 7 to 9:30 pm. We dance at the Oak Grove Community Club\, 14496 SE Cedar Ave.\, Portland.
URL:https://www.rosetownramblers.com/calendar/monthly-social-dance-rubies-rainbows-and-roses/
LOCATION:Oak Grove Community Club\, 14496 Southeast Cedar Avenue\, Portland\, OR\, 97267\, US
END:VEVENT
END:VCALENDAR