BEGIN:VCALENDAR
VERSION:2.0
PRODID:-//Rosetown Ramblers - ECPv6.15.16//NONSGML v1.0//EN
CALSCALE:GREGORIAN
METHOD:PUBLISH
X-ORIGINAL-URL:https://www.rosetownramblers.com
X-WR-CALDESC:Events for Rosetown Ramblers
REFRESH-INTERVAL;VALUE=DURATION:PT1H
X-Robots-Tag:noindex
X-PUBLISHED-TTL:PT1H
BEGIN:VTIMEZONE
TZID:America/Los_Angeles
BEGIN:DAYLIGHT
TZOFFSETFROM:-0800
TZOFFSETTO:-0700
TZNAME:PDT
DTSTART:20210314T100000
END:DAYLIGHT
BEGIN:STANDARD
TZOFFSETFROM:-0700
TZOFFSETTO:-0800
TZNAME:PST
DTSTART:20211107T090000
END:STANDARD
BEGIN:DAYLIGHT
TZOFFSETFROM:-0800
TZOFFSETTO:-0700
TZNAME:PDT
DTSTART:20220313T100000
END:DAYLIGHT
BEGIN:STANDARD
TZOFFSETFROM:-0700
TZOFFSETTO:-0800
TZNAME:PST
DTSTART:20221106T090000
END:STANDARD
BEGIN:DAYLIGHT
TZOFFSETFROM:-0800
TZOFFSETTO:-0700
TZNAME:PDT
DTSTART:20230312T100000
END:DAYLIGHT
BEGIN:STANDARD
TZOFFSETFROM:-0700
TZOFFSETTO:-0800
TZNAME:PST
DTSTART:20231105T090000
END:STANDARD
END:VTIMEZONE
BEGIN:VEVENT
DTSTART;TZID=America/Los_Angeles:20220914T190000
DTEND;TZID=America/Los_Angeles:20220914T190000
DTSTAMP:20260421T232400
CREATED:20220912T185508Z
LAST-MODIFIED:20220912T190223Z
UID:4660-1663182000-1663182000@www.rosetownramblers.com
SUMMARY:Social Square Dance Lessons--Repeats Weekly through December 14!!
DESCRIPTION:Another lesson series is starting! Add some spice to your life and learn to square dance. Lessons continue weekly through December 14. \n\nNo partner required.\nNo special clothes or equipment required–dress casually and comfortably.\nNo gender roles are enforced–dance any position you want.\n\nMasks required for dancers who are not vaccinated for COVID.
URL:https://www.rosetownramblers.com/calendar/social-square-dance-lessons/
LOCATION:Bridgeport United Church of Christ\, 621 NE 76th Ave.\, Portland\, OR\, 97213\, US
END:VEVENT
END:VCALENDAR