BEGIN:VCALENDAR
VERSION:2.0
PRODID:-//Rosetown Ramblers - ECPv6.15.16//NONSGML v1.0//EN
CALSCALE:GREGORIAN
METHOD:PUBLISH
X-ORIGINAL-URL:https://www.rosetownramblers.com
X-WR-CALDESC:Events for Rosetown Ramblers
REFRESH-INTERVAL;VALUE=DURATION:PT1H
X-Robots-Tag:noindex
X-PUBLISHED-TTL:PT1H
BEGIN:VTIMEZONE
TZID:America/Los_Angeles
BEGIN:DAYLIGHT
TZOFFSETFROM:-0800
TZOFFSETTO:-0700
TZNAME:PDT
DTSTART:20210314T100000
END:DAYLIGHT
BEGIN:STANDARD
TZOFFSETFROM:-0700
TZOFFSETTO:-0800
TZNAME:PST
DTSTART:20211107T090000
END:STANDARD
BEGIN:DAYLIGHT
TZOFFSETFROM:-0800
TZOFFSETTO:-0700
TZNAME:PDT
DTSTART:20220313T100000
END:DAYLIGHT
BEGIN:STANDARD
TZOFFSETFROM:-0700
TZOFFSETTO:-0800
TZNAME:PST
DTSTART:20221106T090000
END:STANDARD
BEGIN:DAYLIGHT
TZOFFSETFROM:-0800
TZOFFSETTO:-0700
TZNAME:PDT
DTSTART:20230312T100000
END:DAYLIGHT
BEGIN:STANDARD
TZOFFSETFROM:-0700
TZOFFSETTO:-0800
TZNAME:PST
DTSTART:20231105T090000
END:STANDARD
END:VTIMEZONE
BEGIN:VEVENT
DTSTART;TZID=America/Los_Angeles:20220212T190000
DTEND;TZID=America/Los_Angeles:20220212T213000
DTSTAMP:20260421T161607
CREATED:20220103T045036Z
LAST-MODIFIED:20220103T045036Z
UID:4634-1644692400-1644701400@www.rosetownramblers.com
SUMMARY:February Social Dance With Michael Kellogg
DESCRIPTION:Join us as international caller extraordinaire Michael Kellogg presents a fabulous evening of dancing. Michael is a hugely popular and talented caller. He’s called at numerous square dance conventions and festivals all around the world. This is an evening not to be missed. \nWe alternate Social Square Dance and Plus tips. \nProof of COVID vaccination and mask covering nose and mouth are required!
URL:https://www.rosetownramblers.com/calendar/february-social-dance-with-michael-kellogg/
LOCATION:Oak Grove Community Club\, 14496 Southeast Cedar Avenue\, Portland\, OR\, 97267\, US
END:VEVENT
END:VCALENDAR