BEGIN:VCALENDAR
VERSION:2.0
PRODID:-//Rosetown Ramblers - ECPv6.15.16//NONSGML v1.0//EN
CALSCALE:GREGORIAN
METHOD:PUBLISH
X-ORIGINAL-URL:https://www.rosetownramblers.com
X-WR-CALDESC:Events for Rosetown Ramblers
REFRESH-INTERVAL;VALUE=DURATION:PT1H
X-Robots-Tag:noindex
X-PUBLISHED-TTL:PT1H
BEGIN:VTIMEZONE
TZID:America/Los_Angeles
BEGIN:DAYLIGHT
TZOFFSETFROM:-0800
TZOFFSETTO:-0700
TZNAME:PDT
DTSTART:20200308T100000
END:DAYLIGHT
BEGIN:STANDARD
TZOFFSETFROM:-0700
TZOFFSETTO:-0800
TZNAME:PST
DTSTART:20201101T090000
END:STANDARD
BEGIN:DAYLIGHT
TZOFFSETFROM:-0800
TZOFFSETTO:-0700
TZNAME:PDT
DTSTART:20210314T100000
END:DAYLIGHT
BEGIN:STANDARD
TZOFFSETFROM:-0700
TZOFFSETTO:-0800
TZNAME:PST
DTSTART:20211107T090000
END:STANDARD
BEGIN:DAYLIGHT
TZOFFSETFROM:-0800
TZOFFSETTO:-0700
TZNAME:PDT
DTSTART:20220313T100000
END:DAYLIGHT
BEGIN:STANDARD
TZOFFSETFROM:-0700
TZOFFSETTO:-0800
TZNAME:PST
DTSTART:20221106T090000
END:STANDARD
END:VTIMEZONE
BEGIN:VEVENT
DTSTART;TZID=America/Los_Angeles:20211211T190000
DTEND;TZID=America/Los_Angeles:20211211T213000
DTSTAMP:20260421T132153
CREATED:20211129T201551Z
LAST-MODIFIED:20211129T201551Z
UID:4622-1639249200-1639258200@www.rosetownramblers.com
SUMMARY:Social Dance December 11\, 2021
DESCRIPTION:Join the Ramblers for an upbeat\, energetic social square dance on Saturday\, December 11\, 2021. Our caller is the magnificent Daryl Clendenin. The dance goes from 7 to 9:30 pm. We alternate Social Square Dance and Plus levels. (No round dancing.) We dance at the Oak Grove Community Club\, 14496 SE Cedar Ave.\, Oak Grove\,Oregon. \nNote: We require proof of vaccination against COVID when you check in. We also require everyone to wear masks covering nose and mouth while inside the dance hall. 
URL:https://www.rosetownramblers.com/calendar/social-dance-december-11-2021/
LOCATION:Oak Grove Community Club\, 14496 Southeast Cedar Avenue\, Portland\, OR\, 97267\, US
END:VEVENT
END:VCALENDAR